BEGIN:VCALENDAR
VERSION:2.0
PRODID:-//hacksw/handcal//NONSGML v1.0//EN
BEGIN:VEVENT
DTSTART:20151119T120000
DTEND:20151119T140000
LOCATION:Information à venir prochainement
ORGANIZER;CN=Jean-Baptiste PERONNE:MAILTO:jean-baptiste.peronne@iae-aix.com
SUMMARY:GEPE : DÉJEUNER THÉMATIQUE "STRATEGIE COMMERCIALE"
DESCRIPTION:\nLA STRATEGIE COMMERCIALE\nComment développer son CA \n \nreader reader\n \n LE JEUDI 19 NOVEMBRE 2015 \nDÉJEUNER THÉMATIQUE "STRATEGIE COMMERCIALE"\nde 12H à 14H (lieu communiqué...
URL:https://www.iaeaixalumni.org/fr/event/gepe-dejeuner-thematique-strategie-commerciale/2015/11/19/675
BEGIN:VALARM
TRIGGER:-P0DT1H0M0S
ACTION:DISPLAY
END:VALARM
END:VEVENT
END:VCALENDAR