BEGIN:VCALENDAR
VERSION:2.0
PRODID:-//hacksw/handcal//NONSGML v1.0//EN
BEGIN:VEVENT
DTSTART:20151102T134500
DTEND:20151102T153000
LOCATION:Faculté Saint Charles \nPlace Victor Hugo \n13003 MARSEILLE
ORGANIZER;CN=Jean-Baptiste PERONNE:MAILTO:jean-baptiste.peronne@iae-aix.com
SUMMARY:Provence Pionnières à la Journée Nationale de la Communauté Française des Docteurs
DESCRIPTION:Dossier de presse en pièce jointe.\n
URL:https://www.iaeaixalumni.org/fr/event/provence-pionnieres-a-la-journee-nationale-de-la-communaute-francaise-des-docteurs/2015/11/02/631
BEGIN:VALARM
TRIGGER:-P0DT1H0M0S
ACTION:DISPLAY
END:VALARM
END:VEVENT
END:VCALENDAR