BEGIN:VCALENDAR
VERSION:2.0
PRODID:-//hacksw/handcal//NONSGML v1.0//EN
BEGIN:VEVENT
DTSTART:20151008T083000
DTEND:20151008T100000
LOCATION:LA CITE DES METIERS \n4, Rue des Consuls \n13002 MARSEILLE
ORGANIZER;CN=Marie-Christine MERLE:MAILTO:marie-christine.merle@iae-aix.com
SUMMARY:RESEAUX : PETIT DEJEUNER ANDRH ET FORMAPOSTE
DESCRIPTION:\n \nMerci de bien vouloir vous inscrire en cliquant ici.\n \nImage employeur, sourcing et médias sociaux\nInvitation à venir découvrir le témoignage d'une expérience réussie de sourcing et image...
URL:https://www.iaeaixalumni.org/fr/event/reseaux-petit-dejeuner-andrh-et-formaposte/2015/10/08/515
BEGIN:VALARM
TRIGGER:-P0DT1H0M0S
ACTION:DISPLAY
END:VALARM
END:VEVENT
END:VCALENDAR