BEGIN:VCALENDAR
VERSION:2.0
PRODID:-//hacksw/handcal//NONSGML v1.0//EN
BEGIN:VEVENT
DTSTART:20150325T180000
DTEND:20150325T193000
LOCATION:MARSEILLE - friche la Belle de Mai \n41, Rue Jobin \n13003 MARSEILLE
ORGANIZER;CN=Marie-Christine MERLE:MAILTO:marie-christine.merle@iae-aix.com
SUMMARY:Réseaux : L'exposition WAVE du 20 au 27 mars 2015
DESCRIPTION:\nMercredi 25 mars\n18h – 19h30 : Conférence débat sur les femmes et l'innovation - Quelle place pour les femmes dans l’économie de demain ? Organisateur : Provence Pionnières\n
URL:https://www.iaeaixalumni.org/fr/event/reseaux-l-exposition-wave-du-20-au-27-mars-2015/2015/03/25/425
BEGIN:VALARM
TRIGGER:-P0DT1H0M0S
ACTION:DISPLAY
END:VALARM
END:VEVENT
END:VCALENDAR