BEGIN:VCALENDAR
VERSION:2.0
PRODID:-//hacksw/handcal//NONSGML v1.0//EN
BEGIN:VEVENT
DTSTART:20150113T120000
DTEND:20150113T133000
LOCATION:IAE
ORGANIZER;CN=Christine PEFFERT-FRANCOIS:MAILTO:christinefrancois701@gmail.com
SUMMARY:Présentation IAE AIX ALUMNI aux étudiants du DPAE intensif
DESCRIPTION:La présentation sera suivie d'un apéritif convivial afin de permettre aux étudiants de mieux connaitre notre association et de démarrer leur réseau professionnel au sein de leur promotion.\n
URL:https://www.iaeaixalumni.org/fr/event/presentation-iae-aix-alumni-aux-etudiants-du-dpae-intensif/2015/01/13/351
BEGIN:VALARM
TRIGGER:-P0DT1H0M0S
ACTION:DISPLAY
END:VALARM
END:VEVENT
END:VCALENDAR