BEGIN:VCALENDAR
VERSION:2.0
PRODID:-//hacksw/handcal//NONSGML v1.0//EN
BEGIN:VEVENT
DTSTART:20120910T090000
DTEND:20120910T170000
LOCATION:IAE AIX Puyricard \nChemin de la Quille, Puyricard \n13089 Aix en Provencce
ORGANIZER;CN=Christine PEFFERT-FRANCOIS:MAILTO:christinefrancois701@gmail.com
SUMMARY:Journée d'intégration des nouveaux étudiants
DESCRIPTION:
URL:https://www.iaeaixalumni.org/fr/event/journee-d-integration-des-nouveaux-etudiants/2012/09/10/27
BEGIN:VALARM
TRIGGER:-P0DT1H0M0S
ACTION:DISPLAY
END:VALARM
END:VEVENT
END:VCALENDAR