BEGIN:VCALENDAR
VERSION:2.0
PRODID:-//hacksw/handcal//NONSGML v1.0//EN
BEGIN:VEVENT
DTSTART:20130916T120000
DTEND:20130916T131500
LOCATION:IAE
ORGANIZER;CN=Christine PEFFERT-FRANCOIS:MAILTO:christinefrancois701@gmail.com
SUMMARY:Présentation d'IAE AIX ALUMNI aux M2 International Business
DESCRIPTION:\nLa présentation sera suivie d'un apéritif convivial afin de permettre aux étudiants de mieux connaitre notre association et de démarrer leur réseau professionnel au sein de leur promotion.\n
URL:https://www.iaeaixalumni.org/fr/event/presentation-d-iae-aix-alumni-aux-m2-international-business/2013/09/16/209
BEGIN:VALARM
TRIGGER:-P0DT1H0M0S
ACTION:DISPLAY
END:VALARM
END:VEVENT
END:VCALENDAR