BEGIN:VCALENDAR
VERSION:2.0
PRODID:-//hacksw/handcal//NONSGML v1.0//EN
BEGIN:VEVENT
DTSTART:20201215T181000
DTEND:20201215T193000
LOCATION:https://teams.microsoft.com/l/meetup-join/19:meeting_MDNjMjdkYzEtNDYxZi00NmNkLWJjM2UtYThmMzliN2VhZjBk@thread.v2/0?context={"Tid":"396b38cc-aa65-492b-bb0e-3d94ed25a97b","Oid":"43cf3f36-95ca-43a0-a441-d1f2b194079f"}
ORGANIZER;CN=Valérie BAUME:MAILTO:valerie.baume@iae-aix.com
SUMMARY:Visioconférence par des IAE Alumni :  Les métiers de la finance
DESCRIPTION:Bonjour à tous,\nAfin d' aider à votre insertion professionnelle en cette période particulière, le service relations entreprises et alumni vous proposent une série de visioconférences par thématiques ...
URL:https://www.iaeaixalumni.org/fr/event/visioconference-par-des-iae-alumni-les-metiers-de-la-finance/2020/12/15/1321
BEGIN:VALARM
TRIGGER:-P0DT1H0M0S
ACTION:DISPLAY
END:VALARM
END:VEVENT
END:VCALENDAR