BEGIN:VCALENDAR
VERSION:2.0
PRODID:-//hacksw/handcal//NONSGML v1.0//EN
BEGIN:VEVENT
DTSTART:20130121T173900
DTEND:20130121T203900
LOCATION:IAE AIX \nCHEMIN DE LA QUILLE \n13540 AIX-EN-PROVENCE
ORGANIZER;CN=Christine PEFFERT-FRANCOIS:MAILTO:christinefrancois701@gmail.com
SUMMARY:Atelier du Club Coaching le lundi 25 février à 18h30 à l'IAE, Puyricard
DESCRIPTION:Que faisons-nous, qui sommes nous ? \net accessoirement, à quoi rêvons-nous ?\nQuel parcours de vie, pour quel parcours professionnel .. \nDans la lignée de la dynamique du groupe autour du séminaire ...
URL:https://www.iaeaixalumni.org/fr/event/atelier-du-club-coaching-le-lundi-25-fevrier-a-18h30-a-l-iae-puyricard/2013/01/21/129
BEGIN:VALARM
TRIGGER:-P0DT1H0M0S
ACTION:DISPLAY
END:VALARM
END:VEVENT
END:VCALENDAR