BEGIN:VCALENDAR
VERSION:2.0
PRODID:-//hacksw/handcal//NONSGML v1.0//EN
BEGIN:VEVENT
DTSTART:20170414T090000
DTEND:20170414T120000
LOCATION:Technopôle de Château-Gombert \n45 rue Joliot Curie \n13382 Marseille
ORGANIZER;CN=Jean-Baptiste PERONNE:MAILTO:jean-baptiste.peronne@iae-aix.com
SUMMARY:Breega Capital à la rencontre des start-up d'Aix-Marseille French Tech
DESCRIPTION:\nSi vous ne pouvez pas lire cet email, cliquez ici\nBreega Capital à la rencontre des start-up d'Aix-Marseille French Tech\n \nCréé en 2013 à Paris par 3 entrepreneurs, Breega Capital est un fonds...
URL:https://www.iaeaixalumni.org/fr/event/breega-capital-a-la-rencontre-des-start-up-d-aix-marseille-french-tech/2017/04/14/1107
BEGIN:VALARM
TRIGGER:-P0DT1H0M0S
ACTION:DISPLAY
END:VALARM
END:VEVENT
END:VCALENDAR