BEGIN:VCALENDAR
VERSION:2.0
PRODID:-//hacksw/handcal//NONSGML v1.0//EN
BEGIN:VEVENT
DTSTART:20151020T180000
DTEND:20151020T213000
LOCATION:AG2R La Mondiale \n2, Quai d'Arenc \n13002 MARSEILLE
ORGANIZER;CN=Jean-Baptiste PERONNE:MAILTO:jean-baptiste.peronne@iae-aix.com
SUMMARY:Réseaux : 3èmes Rencontres du Balthazar "Uber-économie, tous concernés ?"
DESCRIPTION:\n
URL:https://www.iaeaixalumni.org/en/event/reseaux-3emes-rencontres-du-balthazar-uber-economie-tous-concernes/2015/10/20/599
BEGIN:VALARM
TRIGGER:-P0DT1H0M0S
ACTION:DISPLAY
END:VALARM
END:VEVENT
END:VCALENDAR