BEGIN:VCALENDAR
VERSION:2.0
PRODID:-//hacksw/handcal//NONSGML v1.0//EN
BEGIN:VEVENT
DTSTART:20151022T180000
DTEND:20151022T193000
LOCATION:Faculté des Sciences Aix - Montperrin \n6, Avenue du Pigonnet \n13100 AIX-EN-PROVENCE
ORGANIZER;CN=Jean-Baptiste PERONNE:MAILTO:jean-baptiste.peronne@iae-aix.com
SUMMARY:CONFÉRENCE SNC "Changeons de regard sur le chômage"
DESCRIPTION:\nCONFÉRENCE\n"Changeons de regard sur le chômage"\n \nJeudi 22 octobre 2015 de 18h00 à 19h30\nFaculté des Sciences Aix - Montperrin\n6, Avenue du Pigonnet 13090 Aix-en-Provence\n(Parking...
URL:https://www.iaeaixalumni.org/en/event/conference-snc-changeons-de-regard-sur-le-chomage/2015/10/22/585
BEGIN:VALARM
TRIGGER:-P0DT1H0M0S
ACTION:DISPLAY
END:VALARM
END:VEVENT
END:VCALENDAR