BEGIN:VCALENDAR
VERSION:2.0
PRODID:-//hacksw/handcal//NONSGML v1.0//EN
BEGIN:VEVENT
DTSTART:20150326T090000
DTEND:20150326T113000
LOCATION:AIX EN PROVENCE \ndomaine du petit arbois- technopole de l'environnement \n13545 AIX EN PROVENCE
ORGANIZER;CN=Marie-Christine MERLE:MAILTO:marie-christine.merle@iae-aix.com
SUMMARY:Réseaux : Propriété intellectuelle :  Quelle stratégie pour quel coût ?
DESCRIPTION:\nAfficher dans le navigateur\n \n \nPropriété intellectuelle : \nQuelle stratégie pour quel coût ?\nQuelle est la meilleure stratégie à adopter ? Quels enjeux financiers ?\n \nPrésenté par :\nMaître ...
URL:https://www.iaeaixalumni.org/en/event/reseaux-propriete-intellectuelle-quelle-strategie-pour-quel-cout/2015/03/26/411
BEGIN:VALARM
TRIGGER:-P0DT1H0M0S
ACTION:DISPLAY
END:VALARM
END:VEVENT
END:VCALENDAR