BEGIN:VCALENDAR
VERSION:2.0
PRODID:-//hacksw/handcal//NONSGML v1.0//EN
BEGIN:VEVENT
DTSTART:20141014T120000
DTEND:20141014T133000
LOCATION:IAE
ORGANIZER;CN=Christine PEFFERT-FRANCOIS:MAILTO:christinefrancois701@gmail.com
SUMMARY:Présentation IAE AIX ALUMNI aux étudiants du Master 2 Management Général, Anglais
DESCRIPTION:La présentation sera suivie d'un apéritif convivial afin de permettre aux étudiants de mieux connaitre notre association et de démarrer leur réseau professionnel au sein de leur promotion.\n
URL:https://www.iaeaixalumni.org/en/event/presentation-iae-aix-alumni-aux-etudiants-du-master-2-management-general-anglais/2014/10/14/337
BEGIN:VALARM
TRIGGER:-P0DT1H0M0S
ACTION:DISPLAY
END:VALARM
END:VEVENT
END:VCALENDAR