BEGIN:VCALENDAR
VERSION:2.0
PRODID:-//hacksw/handcal//NONSGML v1.0//EN
BEGIN:VEVENT
DTSTART:20200309T110000
DTEND:20200309T183000
LOCATION:Iae Aix-Marseille Graduate School of Management \nChemin de la Quille \n13540 AIX-EN-PROVENCE
ORGANIZER;CN=Parissa Smagghe:MAILTO:parissa.smagghe@iae-aix.com
SUMMARY:INVITATION JOURNEE DE LA PARITE / LUNDI 09 MARS
DESCRIPTION:Chères Alumnis, Chers Alumnis,L'IAE Aix-Marseille organise un événement le lundi 9 mars sur le thème de la parité, en lien avec la journée internationale de la femme (8 mars).Nous avons le plaisir de ...
URL:https://www.iaeaixalumni.org/en/event/invitation-journee-de-la-parite-lundi-09-mars/2020/03/09/1320
BEGIN:VALARM
TRIGGER:-P0DT1H0M0S
ACTION:DISPLAY
END:VALARM
END:VEVENT
END:VCALENDAR